BEGIN:VCALENDAR
VERSION:2.0
PRODID:icalendar-ruby
CALSCALE:GREGORIAN
METHOD:PUBLISH
BEGIN:VEVENT
DTSTAMP:20260426T025333Z
UID:14-1794799@hbcprattville.org
DTSTART:20261101T150000Z
DTEND:20261101T154500Z
CLASS:PUBLIC
CREATED:20260425T194427
DESCRIPTION:
LAST-MODIFIED:20260425T194427
LOCATION:Heritage Baptist Church
SUMMARY:Sunday School
URL;VALUE=URI:https://www.hbcprattville.org/events/sunday-school/2026-11-01
ATTACH;FILENAME=Sunday-School_1500x784.jpg;FMTTYPE=image/jpeg:https://dq5pw
 pg1q8ru0.cloudfront.net/2022/05/16/14/56/51/8fdb7c8f-ebc6-4ac6-a360-6eac6e
 09b16a/Sunday-School_1500x784.jpg
END:VEVENT
END:VCALENDAR
