BEGIN:VCALENDAR
VERSION:2.0
PRODID:icalendar-ruby
CALSCALE:GREGORIAN
METHOD:PUBLISH
BEGIN:VEVENT
DTSTAMP:20260425T231102Z
UID:30-1793963@hbcprattville.org
DTSTART:20261014T233000Z
DTEND:20261015T010000Z
CLASS:PUBLIC
CREATED:20260425T170130
DESCRIPTION:
LAST-MODIFIED:20260425T170130
LOCATION:Family Life Center | 1st Floor
SUMMARY:Awana
URL;VALUE=URI:https://www.hbcprattville.org/events/awana/2026-10-14
ATTACH;FILENAME=awana club.jpg;FMTTYPE=image/jpeg:https://dq5pwpg1q8ru0.clo
 udfront.net/2022/12/14/08/09/57/b0d4afba-ff6f-4ede-9138-3cbf94681c10/awana
 %20club.jpg
END:VEVENT
END:VCALENDAR
